BEGIN:VCALENDAR
VERSION:2.0
PRODID:-//Fotografenschmiede - ECPv6.15.20//NONSGML v1.0//EN
CALSCALE:GREGORIAN
METHOD:PUBLISH
X-ORIGINAL-URL:https://fotografenschmiede-cafe.de
X-WR-CALDESC:Veranstaltungen für Fotografenschmiede
REFRESH-INTERVAL;VALUE=DURATION:PT1H
X-Robots-Tag:noindex
X-PUBLISHED-TTL:PT1H
BEGIN:VTIMEZONE
TZID:Europe/Berlin
BEGIN:DAYLIGHT
TZOFFSETFROM:+0100
TZOFFSETTO:+0200
TZNAME:CEST
DTSTART:20240331T010000
END:DAYLIGHT
BEGIN:STANDARD
TZOFFSETFROM:+0200
TZOFFSETTO:+0100
TZNAME:CET
DTSTART:20241027T010000
END:STANDARD
BEGIN:DAYLIGHT
TZOFFSETFROM:+0100
TZOFFSETTO:+0200
TZNAME:CEST
DTSTART:20250330T010000
END:DAYLIGHT
BEGIN:STANDARD
TZOFFSETFROM:+0200
TZOFFSETTO:+0100
TZNAME:CET
DTSTART:20251026T010000
END:STANDARD
BEGIN:DAYLIGHT
TZOFFSETFROM:+0100
TZOFFSETTO:+0200
TZNAME:CEST
DTSTART:20260329T010000
END:DAYLIGHT
BEGIN:STANDARD
TZOFFSETFROM:+0200
TZOFFSETTO:+0100
TZNAME:CET
DTSTART:20261025T010000
END:STANDARD
END:VTIMEZONE
BEGIN:VEVENT
DTSTART;TZID=Europe/Berlin:20251201T200000
DTEND;TZID=Europe/Berlin:20251201T210000
DTSTAMP:20260419T160302
CREATED:20251120T100815Z
LAST-MODIFIED:20251201T083639Z
UID:10000448-1764619200-1764622800@fotografenschmiede-cafe.de
SUMMARY:#1 Onboarding BK Dezember 25
DESCRIPTION:Dieser Inhalt steht nur unseren Mitgliedern zur Verfügung\, die ein Monatsabo abgeschlossen haben. \nHier bekommst du weitere Informationen zum Monatsabo. \n  \n  \n            \n\n                       \n            \n        \n                              Benutzername\n        \n        \n      \n      \n        \n          Passwort\n          \n            \n            \n              \n            \n          \n        \n      \n            \n         Angemeldet bleiben\n      \n       \n      \n        \n        \n        \n        \n      \n    \n     \n    \n        \n          Passwort vergessen
URL:https://fotografenschmiede-cafe.de/event/1-onboarding-bk-dezember-25/
CATEGORIES:Businesskurs Calls
ATTACH;FMTTYPE=image/png:https://fotografenschmiede-cafe.de/wp-content/uploads/2025/11/Herzlich-Willkommen-zum-Onboarding.png
LOCATION:https://us06web.zoom.us/j/88971841891
END:VEVENT
BEGIN:VEVENT
DTSTART;TZID=Europe/Berlin:20251204T100000
DTEND;TZID=Europe/Berlin:20251204T110000
DTSTAMP:20260419T160302
CREATED:20251120T101000Z
LAST-MODIFIED:20251201T083738Z
UID:10000449-1764842400-1764846000@fotografenschmiede-cafe.de
SUMMARY:#2 Onboarding BK Dezember 25
DESCRIPTION:Dieser Inhalt steht nur unseren Mitgliedern zur Verfügung\, die ein Monatsabo abgeschlossen haben. \nHier bekommst du weitere Informationen zum Monatsabo. \n  \n  \n            \n\n                       \n            \n        \n                              Benutzername\n        \n        \n      \n      \n        \n          Passwort\n          \n            \n            \n              \n            \n          \n        \n      \n            \n         Angemeldet bleiben\n      \n       \n      \n        \n        \n        \n        \n      \n    \n     \n    \n        \n          Passwort vergessen
URL:https://fotografenschmiede-cafe.de/event/2-onboarding-bk-dezember-25/
CATEGORIES:Businesskurs Calls
ATTACH;FMTTYPE=image/png:https://fotografenschmiede-cafe.de/wp-content/uploads/2025/11/Herzlich-Willkommen-zum-Onboarding.png
LOCATION:https://us06web.zoom.us/j/83323179199
END:VEVENT
BEGIN:VEVENT
DTSTART;TZID=Europe/Berlin:20251207T200000
DTEND;TZID=Europe/Berlin:20251207T210000
DTSTAMP:20260419T160302
CREATED:20251120T101345Z
LAST-MODIFIED:20251201T083829Z
UID:10000450-1765137600-1765141200@fotografenschmiede-cafe.de
SUMMARY:#3 Onboarding BK Dezember 25
DESCRIPTION:Dieser Inhalt steht nur unseren Mitgliedern zur Verfügung\, die ein Monatsabo abgeschlossen haben. \nHier bekommst du weitere Informationen zum Monatsabo. \n  \n  \n            \n\n                       \n            \n        \n                              Benutzername\n        \n        \n      \n      \n        \n          Passwort\n          \n            \n            \n              \n            \n          \n        \n      \n            \n         Angemeldet bleiben\n      \n       \n      \n        \n        \n        \n        \n      \n    \n     \n    \n        \n          Passwort vergessen
URL:https://fotografenschmiede-cafe.de/event/3-onboarding-bk-dezember-25/
CATEGORIES:Businesskurs Calls
ATTACH;FMTTYPE=image/png:https://fotografenschmiede-cafe.de/wp-content/uploads/2025/11/Herzlich-Willkommen-zum-Onboarding.png
LOCATION:https://us06web.zoom.us/j/88415106313
END:VEVENT
BEGIN:VEVENT
DTSTART;TZID=Europe/Berlin:20251209T200000
DTEND;TZID=Europe/Berlin:20251209T213000
DTSTAMP:20260419T160302
CREATED:20251120T103711Z
LAST-MODIFIED:20251201T083938Z
UID:10000463-1765310400-1765315800@fotografenschmiede-cafe.de
SUMMARY:Kennenlernrunde
DESCRIPTION:Dieser Inhalt steht nur unseren Mitgliedern zur Verfügung\, die ein Monatsabo abgeschlossen haben. \nHier bekommst du weitere Informationen zum Monatsabo. \n  \n  \n            \n\n                       \n            \n        \n                              Benutzername\n        \n        \n      \n      \n        \n          Passwort\n          \n            \n            \n              \n            \n          \n        \n      \n            \n         Angemeldet bleiben\n      \n       \n      \n        \n        \n        \n        \n      \n    \n     \n    \n        \n          Passwort vergessen
URL:https://fotografenschmiede-cafe.de/event/kennenlernrunde-3/
CATEGORIES:Businesskurs Calls
ATTACH;FMTTYPE=image/png:https://fotografenschmiede-cafe.de/wp-content/uploads/2025/11/Einfach-Quatschen.png
LOCATION:https://us06web.zoom.us/j/81336789839
END:VEVENT
BEGIN:VEVENT
DTSTART;TZID=Europe/Berlin:20251214T160000
DTEND;TZID=Europe/Berlin:20251214T173000
DTSTAMP:20260419T160302
CREATED:20251120T102038Z
LAST-MODIFIED:20251201T084037Z
UID:10000451-1765728000-1765733400@fotografenschmiede-cafe.de
SUMMARY:Kaffeerunde BK Dezember 25
DESCRIPTION:Dieser Inhalt steht nur unseren Mitgliedern zur Verfügung\, die ein Monatsabo abgeschlossen haben. \nHier bekommst du weitere Informationen zum Monatsabo.
URL:https://fotografenschmiede-cafe.de/event/kaffeerunde-bk-dezember-25/2025-12-14/
CATEGORIES:Businesskurs Calls
ATTACH;FMTTYPE=image/png:https://fotografenschmiede-cafe.de/wp-content/uploads/2025/11/Kaffeerunde-neu.png
LOCATION:https://us06web.zoom.us/j/84534654861
END:VEVENT
BEGIN:VEVENT
DTSTART;TZID=Europe/Berlin:20251218T200000
DTEND;TZID=Europe/Berlin:20251218T213000
DTSTAMP:20260419T160302
CREATED:20251120T104259Z
LAST-MODIFIED:20251201T084133Z
UID:10000464-1766088000-1766093400@fotografenschmiede-cafe.de
SUMMARY:Mamasein und Fotografin (Austausch mit Tine)
DESCRIPTION:Dieser Inhalt steht nur unseren Mitgliedern zur Verfügung\, die ein Monatsabo abgeschlossen haben. \nHier bekommst du weitere Informationen zum Monatsabo.
URL:https://fotografenschmiede-cafe.de/event/mamasein-und-fotografin-austausch-mit-tine/
CATEGORIES:Businesskurs Calls
ATTACH;FMTTYPE=image/png:https://fotografenschmiede-cafe.de/wp-content/uploads/2025/11/Workshop.png
LOCATION:https://us06web.zoom.us/j/82468160938
END:VEVENT
BEGIN:VEVENT
DTSTART;TZID=Europe/Berlin:20251221T160000
DTEND;TZID=Europe/Berlin:20251221T173000
DTSTAMP:20260419T160302
CREATED:20251120T102038Z
LAST-MODIFIED:20251201T084037Z
UID:10000452-1766332800-1766338200@fotografenschmiede-cafe.de
SUMMARY:Kaffeerunde BK Dezember 25
DESCRIPTION:Dieser Inhalt steht nur unseren Mitgliedern zur Verfügung\, die ein Monatsabo abgeschlossen haben. \nHier bekommst du weitere Informationen zum Monatsabo.
URL:https://fotografenschmiede-cafe.de/event/kaffeerunde-bk-dezember-25/2025-12-21/
CATEGORIES:Businesskurs Calls
ATTACH;FMTTYPE=image/png:https://fotografenschmiede-cafe.de/wp-content/uploads/2025/11/Kaffeerunde-neu.png
LOCATION:https://us06web.zoom.us/j/84534654861
END:VEVENT
END:VCALENDAR